BEGIN:VCALENDAR
VERSION:2.0
PRODID:-//Joseph Moore Museum - ECPv6.15.20//NONSGML v1.0//EN
CALSCALE:GREGORIAN
METHOD:PUBLISH
X-WR-CALNAME:Joseph Moore Museum
X-ORIGINAL-URL:https://jmm.earlham.edu
X-WR-CALDESC:Events for Joseph Moore Museum
REFRESH-INTERVAL;VALUE=DURATION:PT1H
X-Robots-Tag:noindex
X-PUBLISHED-TTL:PT1H
BEGIN:VTIMEZONE
TZID:America/Indiana/Indianapolis
BEGIN:DAYLIGHT
TZOFFSETFROM:-0500
TZOFFSETTO:-0400
TZNAME:EDT
DTSTART:20250309T070000
END:DAYLIGHT
BEGIN:STANDARD
TZOFFSETFROM:-0400
TZOFFSETTO:-0500
TZNAME:EST
DTSTART:20251102T060000
END:STANDARD
BEGIN:DAYLIGHT
TZOFFSETFROM:-0500
TZOFFSETTO:-0400
TZNAME:EDT
DTSTART:20260308T070000
END:DAYLIGHT
BEGIN:STANDARD
TZOFFSETFROM:-0400
TZOFFSETTO:-0500
TZNAME:EST
DTSTART:20261101T060000
END:STANDARD
BEGIN:DAYLIGHT
TZOFFSETFROM:-0500
TZOFFSETTO:-0400
TZNAME:EDT
DTSTART:20270314T070000
END:DAYLIGHT
BEGIN:STANDARD
TZOFFSETFROM:-0400
TZOFFSETTO:-0500
TZNAME:EST
DTSTART:20271107T060000
END:STANDARD
END:VTIMEZONE
BEGIN:VEVENT
DTSTART;TZID=America/Indiana/Indianapolis:20260516T100000
DTEND;TZID=America/Indiana/Indianapolis:20260516T160000
DTSTAMP:20260421T175508
CREATED:20260421T211258Z
LAST-MODIFIED:20260421T211258Z
UID:10015566-1778925600-1778947200@jmm.earlham.edu
SUMMARY:Earlham Commencement (Open for campus guests only)
DESCRIPTION:For Earlham Commencement we are open to the campus community only so we can celebrate our graduates and support their families. \nAfter Commencement we will remained closed for three days to transition to our summer team. \nWe look forward to seeing on you May 21st!
URL:https://jmm.earlham.edu/event/earlham-commencement-open-for-campus-guests-only/
CATEGORIES:Joseph Moore Museum
END:VEVENT
BEGIN:VEVENT
DTSTART;TZID=America/Indiana/Indianapolis:20260512T100000
DTEND;TZID=America/Indiana/Indianapolis:20260512T100000
DTSTAMP:20260421T175508
CREATED:20260120T203120Z
LAST-MODIFIED:20260120T203825Z
UID:10015533-1778580000-1778580000@jmm.earlham.edu
SUMMARY:Little Explorers
DESCRIPTION:Join us at the JMM every Tuesday from 10am until Noon for stories and science activities for the littlest scientists. \nThe theme changes monthly.
URL:https://jmm.earlham.edu/event/little-explorers/2026-05-12/
CATEGORIES:Joseph Moore Museum
END:VEVENT
BEGIN:VEVENT
DTSTART;VALUE=DATE:20260511
DTEND;VALUE=DATE:20260512
DTSTAMP:20260421T175508
CREATED:20240924T122008Z
LAST-MODIFIED:20250311T180639Z
UID:10011426-1778457600-1778543999@jmm.earlham.edu
SUMMARY:Museum Closed
DESCRIPTION:
URL:https://jmm.earlham.edu/event/museum-closed/2026-05-11/
CATEGORIES:Joseph Moore Museum
END:VEVENT
BEGIN:VEVENT
DTSTART;TZID=America/Indiana/Indianapolis:20260505T100000
DTEND;TZID=America/Indiana/Indianapolis:20260505T100000
DTSTAMP:20260421T175508
CREATED:20260120T203120Z
LAST-MODIFIED:20260120T203825Z
UID:10015532-1777975200-1777975200@jmm.earlham.edu
SUMMARY:Little Explorers
DESCRIPTION:Join us at the JMM every Tuesday from 10am until Noon for stories and science activities for the littlest scientists. \nThe theme changes monthly.
URL:https://jmm.earlham.edu/event/little-explorers/2026-05-05/
CATEGORIES:Joseph Moore Museum
END:VEVENT
BEGIN:VEVENT
DTSTART;VALUE=DATE:20260504
DTEND;VALUE=DATE:20260505
DTSTAMP:20260421T175508
CREATED:20240924T122008Z
LAST-MODIFIED:20250311T180639Z
UID:10011425-1777852800-1777939199@jmm.earlham.edu
SUMMARY:Museum Closed
DESCRIPTION:
URL:https://jmm.earlham.edu/event/museum-closed/2026-05-04/
CATEGORIES:Joseph Moore Museum
END:VEVENT
BEGIN:VEVENT
DTSTART;TZID=America/Indiana/Indianapolis:20260428T100000
DTEND;TZID=America/Indiana/Indianapolis:20260428T100000
DTSTAMP:20260421T175508
CREATED:20260120T203120Z
LAST-MODIFIED:20260120T203825Z
UID:10015531-1777370400-1777370400@jmm.earlham.edu
SUMMARY:Little Explorers
DESCRIPTION:Join us at the JMM every Tuesday from 10am until Noon for stories and science activities for the littlest scientists. \nThe theme changes monthly.
URL:https://jmm.earlham.edu/event/little-explorers/2026-04-28/
CATEGORIES:Joseph Moore Museum
END:VEVENT
BEGIN:VEVENT
DTSTART;VALUE=DATE:20260427
DTEND;VALUE=DATE:20260428
DTSTAMP:20260421T175508
CREATED:20240924T122008Z
LAST-MODIFIED:20250311T180639Z
UID:10011424-1777248000-1777334399@jmm.earlham.edu
SUMMARY:Museum Closed
DESCRIPTION:
URL:https://jmm.earlham.edu/event/museum-closed/2026-04-27/
CATEGORIES:Joseph Moore Museum
END:VEVENT
BEGIN:VEVENT
DTSTART;TZID=America/Indiana/Indianapolis:20260421T100000
DTEND;TZID=America/Indiana/Indianapolis:20260421T100000
DTSTAMP:20260421T175508
CREATED:20260120T203120Z
LAST-MODIFIED:20260120T203825Z
UID:10015530-1776765600-1776765600@jmm.earlham.edu
SUMMARY:Little Explorers
DESCRIPTION:Join us at the JMM every Tuesday from 10am until Noon for stories and science activities for the littlest scientists. \nThe theme changes monthly.
URL:https://jmm.earlham.edu/event/little-explorers/2026-04-21/
CATEGORIES:Joseph Moore Museum
END:VEVENT
BEGIN:VEVENT
DTSTART;VALUE=DATE:20260420
DTEND;VALUE=DATE:20260421
DTSTAMP:20260421T175508
CREATED:20240924T122008Z
LAST-MODIFIED:20250311T180639Z
UID:10011423-1776643200-1776729599@jmm.earlham.edu
SUMMARY:Museum Closed
DESCRIPTION:
URL:https://jmm.earlham.edu/event/museum-closed/2026-04-20/
CATEGORIES:Joseph Moore Museum
END:VEVENT
BEGIN:VEVENT
DTSTART;TZID=America/Indiana/Indianapolis:20260414T100000
DTEND;TZID=America/Indiana/Indianapolis:20260414T100000
DTSTAMP:20260421T175508
CREATED:20260120T203120Z
LAST-MODIFIED:20260120T203825Z
UID:10015529-1776160800-1776160800@jmm.earlham.edu
SUMMARY:Little Explorers
DESCRIPTION:Join us at the JMM every Tuesday from 10am until Noon for stories and science activities for the littlest scientists. \nThe theme changes monthly.
URL:https://jmm.earlham.edu/event/little-explorers/2026-04-14/
CATEGORIES:Joseph Moore Museum
END:VEVENT
BEGIN:VEVENT
DTSTART;VALUE=DATE:20260413
DTEND;VALUE=DATE:20260414
DTSTAMP:20260421T175508
CREATED:20240924T122008Z
LAST-MODIFIED:20250311T180639Z
UID:10011422-1776038400-1776124799@jmm.earlham.edu
SUMMARY:Museum Closed
DESCRIPTION:
URL:https://jmm.earlham.edu/event/museum-closed/2026-04-13/
CATEGORIES:Joseph Moore Museum
END:VEVENT
BEGIN:VEVENT
DTSTART;TZID=America/Indiana/Indianapolis:20260407T100000
DTEND;TZID=America/Indiana/Indianapolis:20260407T100000
DTSTAMP:20260421T175508
CREATED:20260120T203120Z
LAST-MODIFIED:20260120T203825Z
UID:10015528-1775556000-1775556000@jmm.earlham.edu
SUMMARY:Little Explorers
DESCRIPTION:Join us at the JMM every Tuesday from 10am until Noon for stories and science activities for the littlest scientists. \nThe theme changes monthly.
URL:https://jmm.earlham.edu/event/little-explorers/2026-04-07/
CATEGORIES:Joseph Moore Museum
END:VEVENT
BEGIN:VEVENT
DTSTART;VALUE=DATE:20260406
DTEND;VALUE=DATE:20260407
DTSTAMP:20260421T175508
CREATED:20240924T122008Z
LAST-MODIFIED:20250311T180639Z
UID:10011421-1775433600-1775519999@jmm.earlham.edu
SUMMARY:Museum Closed
DESCRIPTION:
URL:https://jmm.earlham.edu/event/museum-closed/2026-04-06/
CATEGORIES:Joseph Moore Museum
END:VEVENT
BEGIN:VEVENT
DTSTART;TZID=America/Indiana/Indianapolis:20260331T100000
DTEND;TZID=America/Indiana/Indianapolis:20260331T100000
DTSTAMP:20260421T175508
CREATED:20260120T203120Z
LAST-MODIFIED:20260120T203825Z
UID:10015527-1774951200-1774951200@jmm.earlham.edu
SUMMARY:Little Explorers
DESCRIPTION:Join us at the JMM every Tuesday from 10am until Noon for stories and science activities for the littlest scientists. \nThe theme changes monthly.
URL:https://jmm.earlham.edu/event/little-explorers/2026-03-31/
CATEGORIES:Joseph Moore Museum
END:VEVENT
BEGIN:VEVENT
DTSTART;VALUE=DATE:20260330
DTEND;VALUE=DATE:20260331
DTSTAMP:20260421T175508
CREATED:20240924T122008Z
LAST-MODIFIED:20250311T180639Z
UID:10011420-1774828800-1774915199@jmm.earlham.edu
SUMMARY:Museum Closed
DESCRIPTION:
URL:https://jmm.earlham.edu/event/museum-closed/2026-03-30/
CATEGORIES:Joseph Moore Museum
END:VEVENT
BEGIN:VEVENT
DTSTART;TZID=America/Indiana/Indianapolis:20260324T100000
DTEND;TZID=America/Indiana/Indianapolis:20260324T100000
DTSTAMP:20260421T175508
CREATED:20260120T203120Z
LAST-MODIFIED:20260120T203825Z
UID:10015526-1774346400-1774346400@jmm.earlham.edu
SUMMARY:Little Explorers
DESCRIPTION:Join us at the JMM every Tuesday from 10am until Noon for stories and science activities for the littlest scientists. \nThe theme changes monthly.
URL:https://jmm.earlham.edu/event/little-explorers/2026-03-24/
CATEGORIES:Joseph Moore Museum
END:VEVENT
BEGIN:VEVENT
DTSTART;VALUE=DATE:20260323
DTEND;VALUE=DATE:20260324
DTSTAMP:20260421T175508
CREATED:20240924T122008Z
LAST-MODIFIED:20250311T180639Z
UID:10011419-1774224000-1774310399@jmm.earlham.edu
SUMMARY:Museum Closed
DESCRIPTION:
URL:https://jmm.earlham.edu/event/museum-closed/2026-03-23/
CATEGORIES:Joseph Moore Museum
END:VEVENT
BEGIN:VEVENT
DTSTART;TZID=America/Indiana/Indianapolis:20260317T100000
DTEND;TZID=America/Indiana/Indianapolis:20260317T100000
DTSTAMP:20260421T175508
CREATED:20260120T203120Z
LAST-MODIFIED:20260120T203825Z
UID:10015525-1773741600-1773741600@jmm.earlham.edu
SUMMARY:Little Explorers
DESCRIPTION:Join us at the JMM every Tuesday from 10am until Noon for stories and science activities for the littlest scientists. \nThe theme changes monthly.
URL:https://jmm.earlham.edu/event/little-explorers/2026-03-17/
CATEGORIES:Joseph Moore Museum
END:VEVENT
BEGIN:VEVENT
DTSTART;VALUE=DATE:20260316
DTEND;VALUE=DATE:20260317
DTSTAMP:20260421T175508
CREATED:20240924T122008Z
LAST-MODIFIED:20250311T180639Z
UID:10011418-1773619200-1773705599@jmm.earlham.edu
SUMMARY:Museum Closed
DESCRIPTION:
URL:https://jmm.earlham.edu/event/museum-closed/2026-03-16/
CATEGORIES:Joseph Moore Museum
END:VEVENT
BEGIN:VEVENT
DTSTART;VALUE=DATE:20260309
DTEND;VALUE=DATE:20260310
DTSTAMP:20260421T175508
CREATED:20240924T122008Z
LAST-MODIFIED:20250311T180639Z
UID:10011417-1773014400-1773100799@jmm.earlham.edu
SUMMARY:Museum Closed
DESCRIPTION:
URL:https://jmm.earlham.edu/event/museum-closed/2026-03-09/
CATEGORIES:Joseph Moore Museum
END:VEVENT
BEGIN:VEVENT
DTSTART;TZID=America/Indiana/Indianapolis:20260303T100000
DTEND;TZID=America/Indiana/Indianapolis:20260303T100000
DTSTAMP:20260421T175508
CREATED:20260120T203120Z
LAST-MODIFIED:20260120T203825Z
UID:10015523-1772532000-1772532000@jmm.earlham.edu
SUMMARY:Little Explorers
DESCRIPTION:Join us at the JMM every Tuesday from 10am until Noon for stories and science activities for the littlest scientists. \nThe theme changes monthly.
URL:https://jmm.earlham.edu/event/little-explorers/2026-03-03/
CATEGORIES:Joseph Moore Museum
END:VEVENT
BEGIN:VEVENT
DTSTART;VALUE=DATE:20260302
DTEND;VALUE=DATE:20260303
DTSTAMP:20260421T175508
CREATED:20240924T122008Z
LAST-MODIFIED:20250311T180639Z
UID:10011416-1772409600-1772495999@jmm.earlham.edu
SUMMARY:Museum Closed
DESCRIPTION:
URL:https://jmm.earlham.edu/event/museum-closed/2026-03-02/
CATEGORIES:Joseph Moore Museum
END:VEVENT
BEGIN:VEVENT
DTSTART;TZID=America/Indiana/Indianapolis:20260228T100000
DTEND;TZID=America/Indiana/Indianapolis:20260228T160000
DTSTAMP:20260421T175508
CREATED:20260210T141417Z
LAST-MODIFIED:20260210T141417Z
UID:10015536-1772272800-1772294400@jmm.earlham.edu
SUMMARY:Open House
DESCRIPTION:Our annual celebration of Joseph Moore’s Birthday! \nBehind-the-scenes tours and Moore! \nDetails coming soon!
URL:https://jmm.earlham.edu/event/open-house/
LOCATION:Joseph Moore Museum\, 801 National Road West\, Richmond\, IN\, 47374\, United States
CATEGORIES:Joseph Moore Museum
ORGANIZER;CN="Joseph Moore Museum":MAILTO:josephmooremueum@earlham.edu
END:VEVENT
BEGIN:VEVENT
DTSTART;TZID=America/Indiana/Indianapolis:20260224T100000
DTEND;TZID=America/Indiana/Indianapolis:20260224T100000
DTSTAMP:20260421T175508
CREATED:20260120T203120Z
LAST-MODIFIED:20260120T203825Z
UID:10015522-1771927200-1771927200@jmm.earlham.edu
SUMMARY:Little Explorers
DESCRIPTION:Join us at the JMM every Tuesday from 10am until Noon for stories and science activities for the littlest scientists. \nThe theme changes monthly.
URL:https://jmm.earlham.edu/event/little-explorers/2026-02-24/
CATEGORIES:Joseph Moore Museum
END:VEVENT
BEGIN:VEVENT
DTSTART;VALUE=DATE:20260223
DTEND;VALUE=DATE:20260224
DTSTAMP:20260421T175508
CREATED:20240924T122008Z
LAST-MODIFIED:20250311T180639Z
UID:10011415-1771804800-1771891199@jmm.earlham.edu
SUMMARY:Museum Closed
DESCRIPTION:
URL:https://jmm.earlham.edu/event/museum-closed/2026-02-23/
CATEGORIES:Joseph Moore Museum
END:VEVENT
BEGIN:VEVENT
DTSTART;TZID=America/Indiana/Indianapolis:20260217T100000
DTEND;TZID=America/Indiana/Indianapolis:20260217T100000
DTSTAMP:20260421T175508
CREATED:20260120T203120Z
LAST-MODIFIED:20260120T203825Z
UID:10015521-1771322400-1771322400@jmm.earlham.edu
SUMMARY:Little Explorers
DESCRIPTION:Join us at the JMM every Tuesday from 10am until Noon for stories and science activities for the littlest scientists. \nThe theme changes monthly.
URL:https://jmm.earlham.edu/event/little-explorers/2026-02-17/
CATEGORIES:Joseph Moore Museum
END:VEVENT
BEGIN:VEVENT
DTSTART;VALUE=DATE:20260216
DTEND;VALUE=DATE:20260217
DTSTAMP:20260421T175508
CREATED:20240924T122008Z
LAST-MODIFIED:20250311T180639Z
UID:10011414-1771200000-1771286399@jmm.earlham.edu
SUMMARY:Museum Closed
DESCRIPTION:
URL:https://jmm.earlham.edu/event/museum-closed/2026-02-16/
CATEGORIES:Joseph Moore Museum
END:VEVENT
BEGIN:VEVENT
DTSTART;TZID=America/Indiana/Indianapolis:20260210T100000
DTEND;TZID=America/Indiana/Indianapolis:20260210T100000
DTSTAMP:20260421T175508
CREATED:20260120T203120Z
LAST-MODIFIED:20260120T203825Z
UID:10015520-1770717600-1770717600@jmm.earlham.edu
SUMMARY:Little Explorers
DESCRIPTION:Join us at the JMM every Tuesday from 10am until Noon for stories and science activities for the littlest scientists. \nThe theme changes monthly.
URL:https://jmm.earlham.edu/event/little-explorers/2026-02-10/
CATEGORIES:Joseph Moore Museum
END:VEVENT
BEGIN:VEVENT
DTSTART;VALUE=DATE:20260209
DTEND;VALUE=DATE:20260210
DTSTAMP:20260421T175508
CREATED:20240924T122008Z
LAST-MODIFIED:20250311T180639Z
UID:10011413-1770595200-1770681599@jmm.earlham.edu
SUMMARY:Museum Closed
DESCRIPTION:
URL:https://jmm.earlham.edu/event/museum-closed/2026-02-09/
CATEGORIES:Joseph Moore Museum
END:VEVENT
BEGIN:VEVENT
DTSTART;TZID=America/Indiana/Indianapolis:20260203T100000
DTEND;TZID=America/Indiana/Indianapolis:20260203T100000
DTSTAMP:20260421T175508
CREATED:20260120T203120Z
LAST-MODIFIED:20260120T203825Z
UID:10015519-1770112800-1770112800@jmm.earlham.edu
SUMMARY:Little Explorers
DESCRIPTION:Join us at the JMM every Tuesday from 10am until Noon for stories and science activities for the littlest scientists. \nThe theme changes monthly.
URL:https://jmm.earlham.edu/event/little-explorers/2026-02-03/
CATEGORIES:Joseph Moore Museum
END:VEVENT
END:VCALENDAR