BEGIN:VCALENDAR
VERSION:2.0
PRODID:-//Joseph Moore Museum - ECPv6.15.20//NONSGML v1.0//EN
CALSCALE:GREGORIAN
METHOD:PUBLISH
X-WR-CALNAME:Joseph Moore Museum
X-ORIGINAL-URL:https://jmm.earlham.edu
X-WR-CALDESC:Events for Joseph Moore Museum
REFRESH-INTERVAL;VALUE=DURATION:PT1H
X-Robots-Tag:noindex
X-PUBLISHED-TTL:PT1H
BEGIN:VTIMEZONE
TZID:America/Indiana/Indianapolis
BEGIN:DAYLIGHT
TZOFFSETFROM:-0500
TZOFFSETTO:-0400
TZNAME:EDT
DTSTART:20240310T070000
END:DAYLIGHT
BEGIN:STANDARD
TZOFFSETFROM:-0400
TZOFFSETTO:-0500
TZNAME:EST
DTSTART:20241103T060000
END:STANDARD
BEGIN:DAYLIGHT
TZOFFSETFROM:-0500
TZOFFSETTO:-0400
TZNAME:EDT
DTSTART:20250309T070000
END:DAYLIGHT
BEGIN:STANDARD
TZOFFSETFROM:-0400
TZOFFSETTO:-0500
TZNAME:EST
DTSTART:20251102T060000
END:STANDARD
BEGIN:DAYLIGHT
TZOFFSETFROM:-0500
TZOFFSETTO:-0400
TZNAME:EDT
DTSTART:20260308T070000
END:DAYLIGHT
BEGIN:STANDARD
TZOFFSETFROM:-0400
TZOFFSETTO:-0500
TZNAME:EST
DTSTART:20261101T060000
END:STANDARD
END:VTIMEZONE
BEGIN:VEVENT
DTSTART;TZID=America/Indiana/Indianapolis:20250201T130000
DTEND;TZID=America/Indiana/Indianapolis:20250201T160000
DTSTAMP:20260419T214902
CREATED:20250108T215856Z
LAST-MODIFIED:20250108T220048Z
UID:10011717-1738414800-1738425600@jmm.earlham.edu
SUMMARY:Home of the Ice Age Giants
DESCRIPTION:Join us for our Meltdown Festival event! \n\nDiscover the ice age giants that once roamed Indiana. Drop in and learn about ice science through activity stations and crafts. View gigantic fossil skeletons firsthand. Admission is free and open to all ages.\n\nLocation:Joseph Moore Museum\nEarlham College801 National Rd W\nRichmond\, IN 47374.\n\nDirections:After turning into Earlham’s main entrance from Route 40 W\, turn left at the first stop sign. Parking is available in Visitor Lot G behind the museum. For further directions\, click here. If you have any questions\, please call the museum at 765-983-1303.
URL:https://jmm.earlham.edu/event/home-of-the-ice-age-giants/
LOCATION:IN
CATEGORIES:Joseph Moore Museum
END:VEVENT
BEGIN:VEVENT
DTSTART;VALUE=DATE:20250203
DTEND;VALUE=DATE:20250204
DTSTAMP:20260419T214902
CREATED:20240924T122008Z
LAST-MODIFIED:20250311T180639Z
UID:10011360-1738540800-1738627199@jmm.earlham.edu
SUMMARY:Museum Closed
DESCRIPTION:
URL:https://jmm.earlham.edu/event/museum-closed/2025-02-03/
LOCATION:IN
CATEGORIES:Joseph Moore Museum
END:VEVENT
BEGIN:VEVENT
DTSTART;VALUE=DATE:20250210
DTEND;VALUE=DATE:20250211
DTSTAMP:20260419T214902
CREATED:20240924T122008Z
LAST-MODIFIED:20250311T180639Z
UID:10011361-1739145600-1739231999@jmm.earlham.edu
SUMMARY:Museum Closed
DESCRIPTION:
URL:https://jmm.earlham.edu/event/museum-closed/2025-02-10/
LOCATION:IN
CATEGORIES:Joseph Moore Museum
END:VEVENT
BEGIN:VEVENT
DTSTART;VALUE=DATE:20250217
DTEND;VALUE=DATE:20250218
DTSTAMP:20260419T214902
CREATED:20240924T122008Z
LAST-MODIFIED:20250311T180639Z
UID:10011362-1739750400-1739836799@jmm.earlham.edu
SUMMARY:Museum Closed
DESCRIPTION:
URL:https://jmm.earlham.edu/event/museum-closed/2025-02-17/
LOCATION:IN
CATEGORIES:Joseph Moore Museum
END:VEVENT
BEGIN:VEVENT
DTSTART;VALUE=DATE:20250224
DTEND;VALUE=DATE:20250225
DTSTAMP:20260419T214902
CREATED:20240924T122008Z
LAST-MODIFIED:20250311T180639Z
UID:10011363-1740355200-1740441599@jmm.earlham.edu
SUMMARY:Museum Closed
DESCRIPTION:
URL:https://jmm.earlham.edu/event/museum-closed/2025-02-24/
LOCATION:IN
CATEGORIES:Joseph Moore Museum
END:VEVENT
END:VCALENDAR