BEGIN:VCALENDAR
VERSION:2.0
PRODID:-//Joseph Moore Museum - ECPv6.15.20//NONSGML v1.0//EN
CALSCALE:GREGORIAN
METHOD:PUBLISH
X-WR-CALNAME:Joseph Moore Museum
X-ORIGINAL-URL:https://jmm.earlham.edu
X-WR-CALDESC:Events for Joseph Moore Museum
REFRESH-INTERVAL;VALUE=DURATION:PT1H
X-Robots-Tag:noindex
X-PUBLISHED-TTL:PT1H
BEGIN:VTIMEZONE
TZID:America/Indiana/Indianapolis
BEGIN:DAYLIGHT
TZOFFSETFROM:-0500
TZOFFSETTO:-0400
TZNAME:EDT
DTSTART:20240310T070000
END:DAYLIGHT
BEGIN:STANDARD
TZOFFSETFROM:-0400
TZOFFSETTO:-0500
TZNAME:EST
DTSTART:20241103T060000
END:STANDARD
BEGIN:DAYLIGHT
TZOFFSETFROM:-0500
TZOFFSETTO:-0400
TZNAME:EDT
DTSTART:20250309T070000
END:DAYLIGHT
BEGIN:STANDARD
TZOFFSETFROM:-0400
TZOFFSETTO:-0500
TZNAME:EST
DTSTART:20251102T060000
END:STANDARD
BEGIN:DAYLIGHT
TZOFFSETFROM:-0500
TZOFFSETTO:-0400
TZNAME:EDT
DTSTART:20260308T070000
END:DAYLIGHT
BEGIN:STANDARD
TZOFFSETFROM:-0400
TZOFFSETTO:-0500
TZNAME:EST
DTSTART:20261101T060000
END:STANDARD
END:VTIMEZONE
BEGIN:VEVENT
DTSTART;VALUE=DATE:20250407
DTEND;VALUE=DATE:20250408
DTSTAMP:20260419T201759
CREATED:20240924T122008Z
LAST-MODIFIED:20250311T180639Z
UID:10011369-1743984000-1744070399@jmm.earlham.edu
SUMMARY:Museum Closed
DESCRIPTION:
URL:https://jmm.earlham.edu/event/museum-closed/2025-04-07/
LOCATION:IN
CATEGORIES:Joseph Moore Museum
END:VEVENT
BEGIN:VEVENT
DTSTART;VALUE=DATE:20250414
DTEND;VALUE=DATE:20250415
DTSTAMP:20260419T201759
CREATED:20240924T122008Z
LAST-MODIFIED:20250311T180639Z
UID:10011370-1744588800-1744675199@jmm.earlham.edu
SUMMARY:Museum Closed
DESCRIPTION:
URL:https://jmm.earlham.edu/event/museum-closed/2025-04-14/
LOCATION:IN
CATEGORIES:Joseph Moore Museum
END:VEVENT
BEGIN:VEVENT
DTSTART;TZID=America/Indiana/Indianapolis:20250419T140000
DTEND;TZID=America/Indiana/Indianapolis:20250419T153000
DTSTAMP:20260419T201800
CREATED:20250409T175317Z
LAST-MODIFIED:20250410T163151Z
UID:10014571-1745071200-1745076600@jmm.earlham.edu
SUMMARY:Fossil Hunting Eco-Tour
DESCRIPTION:Richmond\, Indiana\, is a fabulous place to find fossils of ancient sea creatures that lived over 400 million years ago!   \nEarlham senior Koen Arthaud-Day will lead us to the stream that runs through Earlham’s Nature Reserve to look for fossils. We’ll enjoy a nature walk and then search for fossils from the Ordovician period\, when this area was under a shallow\, tropical ocean!  \nWhen: Saturday\, April 19th\, 2-3:30pm \nWho: This eco-tour favorite is FREE and open to all individuals\, students and families! No registration required.  \nWhere: Meet at Sadler Stadium (Earlham College Baseball Field) Parking Lot. To get to the stadium from National Rd. W\, turn onto College Ave. Turn left onto SW G St\, then right onto SW 5th St. Make a right onto Earlham Drive. \nWhat to expect: Guests can expect to walk up to two miles in the woods. For optional creek walking\, please wear shoes that can get wet. Stay tuned to our social media for rain/weather updates. \nCurious to learn more? You can reach the museum at josephmooremuseum@earlham.edu or 765-983-1303. We look forward to hearing from you!
URL:https://jmm.earlham.edu/event/fossil-hunting-eco-tour/
LOCATION:IN
CATEGORIES:Joseph Moore Museum
END:VEVENT
BEGIN:VEVENT
DTSTART;VALUE=DATE:20250421
DTEND;VALUE=DATE:20250422
DTSTAMP:20260419T201800
CREATED:20240924T122008Z
LAST-MODIFIED:20250311T180639Z
UID:10011371-1745193600-1745279999@jmm.earlham.edu
SUMMARY:Museum Closed
DESCRIPTION:
URL:https://jmm.earlham.edu/event/museum-closed/2025-04-21/
LOCATION:IN
CATEGORIES:Joseph Moore Museum
END:VEVENT
BEGIN:VEVENT
DTSTART;TZID=America/Indiana/Indianapolis:20250426T140000
DTEND;TZID=America/Indiana/Indianapolis:20250426T150000
DTSTAMP:20260419T201800
CREATED:20250409T181511Z
LAST-MODIFIED:20250409T182902Z
UID:10014572-1745676000-1745679600@jmm.earlham.edu
SUMMARY:Follow the North Star Planetarium Show
DESCRIPTION:Discover how freedom seekers navigated the night sky on their journey to freedom. Immerse yourself in a planetarium experience\, then engage in astronomy-themed crafts and hands-on activities. This event is student-led and co-hosted with the Levi & Catherine Coffin State Historic Site. \nWho: We recommend this program for school-aged kids and their caregivers\, but all ages are welcome! \nWhere: Joseph Moore Museum | 801 National Rd W\, Richmond\, IN \nThis event is free and open to the public. No registration required.  \nCurious to learn more? You can reach the museum at josephmooremuseum@earlham.edu or 765-983-1303. We look forward to hearing from you!
URL:https://jmm.earlham.edu/event/follow-the-north-star-planetarium-show/
LOCATION:IN
CATEGORIES:Joseph Moore Museum
END:VEVENT
BEGIN:VEVENT
DTSTART;VALUE=DATE:20250428
DTEND;VALUE=DATE:20250429
DTSTAMP:20260419T201800
CREATED:20240924T122008Z
LAST-MODIFIED:20250311T180639Z
UID:10011372-1745798400-1745884799@jmm.earlham.edu
SUMMARY:Museum Closed
DESCRIPTION:
URL:https://jmm.earlham.edu/event/museum-closed/2025-04-28/
LOCATION:IN
CATEGORIES:Joseph Moore Museum
END:VEVENT
END:VCALENDAR