BEGIN:VCALENDAR
VERSION:2.0
PRODID:-//Joseph Moore Museum - ECPv6.15.20//NONSGML v1.0//EN
CALSCALE:GREGORIAN
METHOD:PUBLISH
X-ORIGINAL-URL:https://jmm.earlham.edu
X-WR-CALDESC:Events for Joseph Moore Museum
REFRESH-INTERVAL;VALUE=DURATION:PT1H
X-Robots-Tag:noindex
X-PUBLISHED-TTL:PT1H
BEGIN:VTIMEZONE
TZID:America/Indiana/Indianapolis
BEGIN:DAYLIGHT
TZOFFSETFROM:-0500
TZOFFSETTO:-0400
TZNAME:EDT
DTSTART:20240310T070000
END:DAYLIGHT
BEGIN:STANDARD
TZOFFSETFROM:-0400
TZOFFSETTO:-0500
TZNAME:EST
DTSTART:20241103T060000
END:STANDARD
BEGIN:DAYLIGHT
TZOFFSETFROM:-0500
TZOFFSETTO:-0400
TZNAME:EDT
DTSTART:20250309T070000
END:DAYLIGHT
BEGIN:STANDARD
TZOFFSETFROM:-0400
TZOFFSETTO:-0500
TZNAME:EST
DTSTART:20251102T060000
END:STANDARD
BEGIN:DAYLIGHT
TZOFFSETFROM:-0500
TZOFFSETTO:-0400
TZNAME:EDT
DTSTART:20260308T070000
END:DAYLIGHT
BEGIN:STANDARD
TZOFFSETFROM:-0400
TZOFFSETTO:-0500
TZNAME:EST
DTSTART:20261101T060000
END:STANDARD
END:VTIMEZONE
BEGIN:VEVENT
DTSTART;VALUE=DATE:20250505
DTEND;VALUE=DATE:20250506
DTSTAMP:20260423T191725
CREATED:20240924T122008Z
LAST-MODIFIED:20250311T180639Z
UID:10011373-1746403200-1746489599@jmm.earlham.edu
SUMMARY:Museum Closed
DESCRIPTION:
URL:https://jmm.earlham.edu/event/museum-closed/2025-05-05/
CATEGORIES:Joseph Moore Museum
END:VEVENT
BEGIN:VEVENT
DTSTART;VALUE=DATE:20250512
DTEND;VALUE=DATE:20250513
DTSTAMP:20260423T191725
CREATED:20240924T122008Z
LAST-MODIFIED:20250311T180639Z
UID:10011374-1747008000-1747094399@jmm.earlham.edu
SUMMARY:Museum Closed
DESCRIPTION:
URL:https://jmm.earlham.edu/event/museum-closed/2025-05-12/
CATEGORIES:Joseph Moore Museum
END:VEVENT
BEGIN:VEVENT
DTSTART;VALUE=DATE:20250517
DTEND;VALUE=DATE:20250518
DTSTAMP:20260423T191725
CREATED:20250311T172223Z
LAST-MODIFIED:20250311T172223Z
UID:10011760-1747440000-1747526399@jmm.earlham.edu
SUMMARY:Museum Closed for Commencement and Summer Staff Training
DESCRIPTION:Summer is a busy time at the JoMo and we want to be sure to be ready for you when you arrive. We’ll see you soon!
URL:https://jmm.earlham.edu/event/museum-closed-for-commencement-and-summer-staff-training/2025-05-17/
LOCATION:Joseph Moore Museum\, 801 National Road West\, Richmond\, IN\, 47374\, United States
CATEGORIES:Joseph Moore Museum
END:VEVENT
BEGIN:VEVENT
DTSTART;VALUE=DATE:20250518
DTEND;VALUE=DATE:20250519
DTSTAMP:20260423T191725
CREATED:20250311T172223Z
LAST-MODIFIED:20250311T172223Z
UID:10011761-1747526400-1747612799@jmm.earlham.edu
SUMMARY:Museum Closed for Commencement and Summer Staff Training
DESCRIPTION:Summer is a busy time at the JoMo and we want to be sure to be ready for you when you arrive. We’ll see you soon!
URL:https://jmm.earlham.edu/event/museum-closed-for-commencement-and-summer-staff-training/2025-05-18/
LOCATION:Joseph Moore Museum\, 801 National Road West\, Richmond\, IN\, 47374\, United States
CATEGORIES:Joseph Moore Museum
END:VEVENT
BEGIN:VEVENT
DTSTART;VALUE=DATE:20250519
DTEND;VALUE=DATE:20250520
DTSTAMP:20260423T191725
CREATED:20240924T122008Z
LAST-MODIFIED:20250311T180639Z
UID:10011375-1747612800-1747699199@jmm.earlham.edu
SUMMARY:Museum Closed
DESCRIPTION:
URL:https://jmm.earlham.edu/event/museum-closed/2025-05-19/
CATEGORIES:Joseph Moore Museum
END:VEVENT
BEGIN:VEVENT
DTSTART;VALUE=DATE:20250519
DTEND;VALUE=DATE:20250520
DTSTAMP:20260423T191725
CREATED:20250311T172223Z
LAST-MODIFIED:20250311T172223Z
UID:10011762-1747612800-1747699199@jmm.earlham.edu
SUMMARY:Museum Closed for Commencement and Summer Staff Training
DESCRIPTION:Summer is a busy time at the JoMo and we want to be sure to be ready for you when you arrive. We’ll see you soon!
URL:https://jmm.earlham.edu/event/museum-closed-for-commencement-and-summer-staff-training/2025-05-19/
LOCATION:Joseph Moore Museum\, 801 National Road West\, Richmond\, IN\, 47374\, United States
CATEGORIES:Joseph Moore Museum
END:VEVENT
BEGIN:VEVENT
DTSTART;VALUE=DATE:20250520
DTEND;VALUE=DATE:20250521
DTSTAMP:20260423T191725
CREATED:20250311T172223Z
LAST-MODIFIED:20250311T172223Z
UID:10011763-1747699200-1747785599@jmm.earlham.edu
SUMMARY:Museum Closed for Commencement and Summer Staff Training
DESCRIPTION:Summer is a busy time at the JoMo and we want to be sure to be ready for you when you arrive. We’ll see you soon!
URL:https://jmm.earlham.edu/event/museum-closed-for-commencement-and-summer-staff-training/2025-05-20/
LOCATION:Joseph Moore Museum\, 801 National Road West\, Richmond\, IN\, 47374\, United States
CATEGORIES:Joseph Moore Museum
END:VEVENT
BEGIN:VEVENT
DTSTART;VALUE=DATE:20250521
DTEND;VALUE=DATE:20250522
DTSTAMP:20260423T191725
CREATED:20250311T172223Z
LAST-MODIFIED:20250311T172223Z
UID:10011764-1747785600-1747871999@jmm.earlham.edu
SUMMARY:Museum Closed for Commencement and Summer Staff Training
DESCRIPTION:Summer is a busy time at the JoMo and we want to be sure to be ready for you when you arrive. We’ll see you soon!
URL:https://jmm.earlham.edu/event/museum-closed-for-commencement-and-summer-staff-training/2025-05-21/
LOCATION:Joseph Moore Museum\, 801 National Road West\, Richmond\, IN\, 47374\, United States
CATEGORIES:Joseph Moore Museum
END:VEVENT
BEGIN:VEVENT
DTSTART;VALUE=DATE:20250522
DTEND;VALUE=DATE:20250523
DTSTAMP:20260423T191725
CREATED:20250311T172223Z
LAST-MODIFIED:20250311T172223Z
UID:10011765-1747872000-1747958399@jmm.earlham.edu
SUMMARY:Museum Closed for Commencement and Summer Staff Training
DESCRIPTION:Summer is a busy time at the JoMo and we want to be sure to be ready for you when you arrive. We’ll see you soon!
URL:https://jmm.earlham.edu/event/museum-closed-for-commencement-and-summer-staff-training/2025-05-22/
LOCATION:Joseph Moore Museum\, 801 National Road West\, Richmond\, IN\, 47374\, United States
CATEGORIES:Joseph Moore Museum
END:VEVENT
BEGIN:VEVENT
DTSTART;VALUE=DATE:20250523
DTEND;VALUE=DATE:20250524
DTSTAMP:20260423T191725
CREATED:20250311T172223Z
LAST-MODIFIED:20250311T172223Z
UID:10011766-1747958400-1748044799@jmm.earlham.edu
SUMMARY:Museum Closed for Commencement and Summer Staff Training
DESCRIPTION:Summer is a busy time at the JoMo and we want to be sure to be ready for you when you arrive. We’ll see you soon!
URL:https://jmm.earlham.edu/event/museum-closed-for-commencement-and-summer-staff-training/2025-05-23/
LOCATION:Joseph Moore Museum\, 801 National Road West\, Richmond\, IN\, 47374\, United States
CATEGORIES:Joseph Moore Museum
END:VEVENT
BEGIN:VEVENT
DTSTART;VALUE=DATE:20250526
DTEND;VALUE=DATE:20250527
DTSTAMP:20260423T191725
CREATED:20240924T122008Z
LAST-MODIFIED:20250311T180639Z
UID:10011376-1748217600-1748303999@jmm.earlham.edu
SUMMARY:Museum Closed
DESCRIPTION:
URL:https://jmm.earlham.edu/event/museum-closed/2025-05-26/
CATEGORIES:Joseph Moore Museum
END:VEVENT
END:VCALENDAR