BEGIN:VCALENDAR
VERSION:2.0
PRODID:-//Joseph Moore Museum - ECPv6.15.20//NONSGML v1.0//EN
CALSCALE:GREGORIAN
METHOD:PUBLISH
X-WR-CALNAME:Joseph Moore Museum
X-ORIGINAL-URL:https://jmm.earlham.edu
X-WR-CALDESC:Events for Joseph Moore Museum
REFRESH-INTERVAL;VALUE=DURATION:PT1H
X-Robots-Tag:noindex
X-PUBLISHED-TTL:PT1H
BEGIN:VTIMEZONE
TZID:America/Indiana/Indianapolis
BEGIN:DAYLIGHT
TZOFFSETFROM:-0500
TZOFFSETTO:-0400
TZNAME:EDT
DTSTART:20230312T070000
END:DAYLIGHT
BEGIN:STANDARD
TZOFFSETFROM:-0400
TZOFFSETTO:-0500
TZNAME:EST
DTSTART:20231105T060000
END:STANDARD
BEGIN:DAYLIGHT
TZOFFSETFROM:-0500
TZOFFSETTO:-0400
TZNAME:EDT
DTSTART:20240310T070000
END:DAYLIGHT
BEGIN:STANDARD
TZOFFSETFROM:-0400
TZOFFSETTO:-0500
TZNAME:EST
DTSTART:20241103T060000
END:STANDARD
BEGIN:DAYLIGHT
TZOFFSETFROM:-0500
TZOFFSETTO:-0400
TZNAME:EDT
DTSTART:20250309T070000
END:DAYLIGHT
BEGIN:STANDARD
TZOFFSETFROM:-0400
TZOFFSETTO:-0500
TZNAME:EST
DTSTART:20251102T060000
END:STANDARD
BEGIN:DAYLIGHT
TZOFFSETFROM:-0500
TZOFFSETTO:-0400
TZNAME:EDT
DTSTART:20260308T070000
END:DAYLIGHT
BEGIN:STANDARD
TZOFFSETFROM:-0400
TZOFFSETTO:-0500
TZNAME:EST
DTSTART:20261101T060000
END:STANDARD
END:VTIMEZONE
BEGIN:VEVENT
DTSTART;TZID=America/Indiana/Indianapolis:20250617T090000
DTEND;TZID=America/Indiana/Indianapolis:20250617T120000
DTSTAMP:20260420T030958
CREATED:20250312T175513Z
LAST-MODIFIED:20250312T175513Z
UID:10014562-1750150800-1750161600@jmm.earlham.edu
SUMMARY:Summer Camp Grades 4-6
DESCRIPTION:Registration details coming soon!
URL:https://jmm.earlham.edu/event/summer-camp-grades-4-6-2/2025-06-17/
LOCATION:Joseph Moore Museum\, 801 National Road West\, Richmond\, IN\, 47374\, United States
CATEGORIES:Joseph Moore Museum
ORGANIZER;CN="Joseph Moore Museum":MAILTO:josephmooremueum@earlham.edu
END:VEVENT
BEGIN:VEVENT
DTSTART;TZID=America/Indiana/Indianapolis:20250617T090000
DTEND;TZID=America/Indiana/Indianapolis:20250617T120000
DTSTAMP:20260420T030958
CREATED:20250312T175336Z
LAST-MODIFIED:20250312T175336Z
UID:10014557-1750150800-1750161600@jmm.earlham.edu
SUMMARY:Summer Camp Grades 4-6
DESCRIPTION:Stay tuned for registration details!
URL:https://jmm.earlham.edu/event/summer-camp-grades-4-6/2025-06-17/
LOCATION:Joseph Moore Museum\, 801 National Road West\, Richmond\, IN\, 47374\, United States
CATEGORIES:Joseph Moore Museum
ORGANIZER;CN="Joseph Moore Museum":MAILTO:josephmooremueum@earlham.edu
END:VEVENT
BEGIN:VEVENT
DTSTART;TZID=America/Indiana/Indianapolis:20250616T090000
DTEND;TZID=America/Indiana/Indianapolis:20250616T120000
DTSTAMP:20260420T030958
CREATED:20250312T175513Z
LAST-MODIFIED:20250312T175513Z
UID:10014561-1750064400-1750075200@jmm.earlham.edu
SUMMARY:Summer Camp Grades 4-6
DESCRIPTION:Registration details coming soon!
URL:https://jmm.earlham.edu/event/summer-camp-grades-4-6-2/2025-06-16/
LOCATION:Joseph Moore Museum\, 801 National Road West\, Richmond\, IN\, 47374\, United States
CATEGORIES:Joseph Moore Museum
ORGANIZER;CN="Joseph Moore Museum":MAILTO:josephmooremueum@earlham.edu
END:VEVENT
BEGIN:VEVENT
DTSTART;TZID=America/Indiana/Indianapolis:20250616T090000
DTEND;TZID=America/Indiana/Indianapolis:20250616T120000
DTSTAMP:20260420T030958
CREATED:20250312T175336Z
LAST-MODIFIED:20250312T175336Z
UID:10014556-1750064400-1750075200@jmm.earlham.edu
SUMMARY:Summer Camp Grades 4-6
DESCRIPTION:Stay tuned for registration details!
URL:https://jmm.earlham.edu/event/summer-camp-grades-4-6/2025-06-16/
LOCATION:Joseph Moore Museum\, 801 National Road West\, Richmond\, IN\, 47374\, United States
CATEGORIES:Joseph Moore Museum
ORGANIZER;CN="Joseph Moore Museum":MAILTO:josephmooremueum@earlham.edu
END:VEVENT
BEGIN:VEVENT
DTSTART;TZID=America/Indiana/Indianapolis:20241203T150000
DTEND;TZID=America/Indiana/Indianapolis:20241203T200000
DTSTAMP:20260420T030958
CREATED:20241111T171551Z
LAST-MODIFIED:20241118T210144Z
UID:10011604-1733238000-1733256000@jmm.earlham.edu
SUMMARY:Holiday Shopping Extravaganza
DESCRIPTION:The holiday season is just around the corner\, and we’re here to help you find the perfect gifts! Discover unique nature- and science-themed gifts for all ages\, from new merch to classic favorites! Plus\, enjoy complimentary refreshments as you shop\, and we’ll even handle the free gift wrapping to make your experience extra festive. Each purchase supports the museum and our educational mission. \nA golf cart shuttle will be available between Parking Lot G and the museum’s front entrance.
URL:https://jmm.earlham.edu/event/holiday-shopping-extravaganza/
LOCATION:Joseph Moore Museum\, 801 National Road West\, Richmond\, IN\, 47374\, United States
CATEGORIES:Joseph Moore Museum
ORGANIZER;CN="Joseph Moore Museum":MAILTO:josephmooremueum@earlham.edu
END:VEVENT
BEGIN:VEVENT
DTSTART;TZID=America/Indiana/Indianapolis:20241005T103000
DTEND;TZID=America/Indiana/Indianapolis:20241005T120000
DTSTAMP:20260420T030958
CREATED:20240925T161753Z
LAST-MODIFIED:20240925T161838Z
UID:10011603-1728124200-1728129600@jmm.earlham.edu
SUMMARY:Guerrilla Gardening & Restoration (JMM Eco-Tour)
DESCRIPTION:Nurture nature for a better future! Join the Joseph Moore Museum for a Guerrilla Gardening & Restoration Eco-Tour. \n Learn about invasive species and restoring native plants. Explore native plants in-person and plant native seeds. This free\, guided eco-tour is led by biologist Jaime Coon and Earlham Nature Reserve System Property Manager Jalen Sleet. \n When: Saturday\, October 5th\, 10:30am – 12pm \n Who: This eco-tour event is FREE and open to all individuals\, students\, and families! \nWhere: Meet at Sadler Stadium (Earlham College Baseball Field) Parking Lot. To get to the stadium from Route 40W\, turn onto SW 5th Street and then make a right onto Earlham Drive.This eco-tour may involve walking up to two miles. Please dress with the weather in mind. Stay tuned to our social media for rain/weather updates.Curious to learn more? You can reach the museum at josephmooremuseum@earlham.edu or 765-983-1303. We look forward to hearing from you!
URL:https://jmm.earlham.edu/event/guerilla-gardening-restoration-jmm-eco-tour/
LOCATION:Sadler Stadium
CATEGORIES:Joseph Moore Museum
ORGANIZER;CN="Joseph Moore Museum":MAILTO:josephmooremueum@earlham.edu
END:VEVENT
END:VCALENDAR